BEGIN:VCALENDAR
VERSION:2.0
PRODID:-//Huntsville Photographic Society - ECPv6.15.20//NONSGML v1.0//EN
CALSCALE:GREGORIAN
METHOD:PUBLISH
X-WR-CALNAME:Huntsville Photographic Society
X-ORIGINAL-URL:https://www.hpsphoto.org
X-WR-CALDESC:Events for Huntsville Photographic Society
REFRESH-INTERVAL;VALUE=DURATION:PT1H
X-Robots-Tag:noindex
X-PUBLISHED-TTL:PT1H
BEGIN:VTIMEZONE
TZID:America/Chicago
BEGIN:DAYLIGHT
TZOFFSETFROM:-0600
TZOFFSETTO:-0500
TZNAME:CDT
DTSTART:20240310T080000
END:DAYLIGHT
BEGIN:STANDARD
TZOFFSETFROM:-0500
TZOFFSETTO:-0600
TZNAME:CST
DTSTART:20241103T070000
END:STANDARD
BEGIN:DAYLIGHT
TZOFFSETFROM:-0600
TZOFFSETTO:-0500
TZNAME:CDT
DTSTART:20250309T080000
END:DAYLIGHT
BEGIN:STANDARD
TZOFFSETFROM:-0500
TZOFFSETTO:-0600
TZNAME:CST
DTSTART:20251102T070000
END:STANDARD
BEGIN:DAYLIGHT
TZOFFSETFROM:-0600
TZOFFSETTO:-0500
TZNAME:CDT
DTSTART:20260308T080000
END:DAYLIGHT
BEGIN:STANDARD
TZOFFSETFROM:-0500
TZOFFSETTO:-0600
TZNAME:CST
DTSTART:20261101T070000
END:STANDARD
END:VTIMEZONE
BEGIN:VEVENT
DTSTART;VALUE=DATE:20251004
DTEND;VALUE=DATE:20251005
DTSTAMP:20260423T154710
CREATED:20250918T184211Z
LAST-MODIFIED:20250918T184211Z
UID:19525-1759536000-1759622399@www.hpsphoto.org
SUMMARY:Scott Kelby Worldwide Photo Walk
DESCRIPTION:HPS Sponsored Activity.  It will be in Downtown Huntsville\, more details to come.
URL:https://www.hpsphoto.org/event/scott-kelby-worldwide-photo-walk/
LOCATION:Downtown Huntsville\, 268-296 West Side Square\, Huntsville\, AL\, 35801\, United States
END:VEVENT
END:VCALENDAR