BEGIN:VCALENDAR
VERSION:2.0
PRODID:-//Huntsville Photographic Society - ECPv6.15.20//NONSGML v1.0//EN
CALSCALE:GREGORIAN
METHOD:PUBLISH
X-WR-CALNAME:Huntsville Photographic Society
X-ORIGINAL-URL:https://www.hpsphoto.org
X-WR-CALDESC:Events for Huntsville Photographic Society
REFRESH-INTERVAL;VALUE=DURATION:PT1H
X-Robots-Tag:noindex
X-PUBLISHED-TTL:PT1H
BEGIN:VTIMEZONE
TZID:America/Chicago
BEGIN:DAYLIGHT
TZOFFSETFROM:-0600
TZOFFSETTO:-0500
TZNAME:CDT
DTSTART:20220313T080000
END:DAYLIGHT
BEGIN:STANDARD
TZOFFSETFROM:-0500
TZOFFSETTO:-0600
TZNAME:CST
DTSTART:20221106T070000
END:STANDARD
BEGIN:DAYLIGHT
TZOFFSETFROM:-0600
TZOFFSETTO:-0500
TZNAME:CDT
DTSTART:20230312T080000
END:DAYLIGHT
BEGIN:STANDARD
TZOFFSETFROM:-0500
TZOFFSETTO:-0600
TZNAME:CST
DTSTART:20231105T070000
END:STANDARD
BEGIN:DAYLIGHT
TZOFFSETFROM:-0600
TZOFFSETTO:-0500
TZNAME:CDT
DTSTART:20240310T080000
END:DAYLIGHT
BEGIN:STANDARD
TZOFFSETFROM:-0500
TZOFFSETTO:-0600
TZNAME:CST
DTSTART:20241103T070000
END:STANDARD
BEGIN:DAYLIGHT
TZOFFSETFROM:-0600
TZOFFSETTO:-0500
TZNAME:CDT
DTSTART:20250309T080000
END:DAYLIGHT
BEGIN:STANDARD
TZOFFSETFROM:-0500
TZOFFSETTO:-0600
TZNAME:CST
DTSTART:20251102T070000
END:STANDARD
BEGIN:DAYLIGHT
TZOFFSETFROM:-0600
TZOFFSETTO:-0500
TZNAME:CDT
DTSTART:20260308T080000
END:DAYLIGHT
BEGIN:STANDARD
TZOFFSETFROM:-0500
TZOFFSETTO:-0600
TZNAME:CST
DTSTART:20261101T070000
END:STANDARD
END:VTIMEZONE
BEGIN:VEVENT
DTSTART;TZID=America/Chicago:20250210T183000
DTEND;TZID=America/Chicago:20250210T203000
DTSTAMP:20260424T014710
CREATED:20250130T021238Z
LAST-MODIFIED:20250130T021238Z
UID:18618-1739212200-1739219400@www.hpsphoto.org
SUMMARY:Feb Program
DESCRIPTION:
URL:https://www.hpsphoto.org/event/feb-program/
LOCATION:GigaParts\, 6123 University Dr\, Huntsville\, AL
END:VEVENT
BEGIN:VEVENT
DTSTART;TZID=America/Chicago:20250127T183000
DTEND;TZID=America/Chicago:20250127T203000
DTSTAMP:20260424T014710
CREATED:20250112T152707Z
LAST-MODIFIED:20250112T152707Z
UID:18473-1738002600-1738009800@www.hpsphoto.org
SUMMARY:January Competition
DESCRIPTION:Looking Up / Looking Down
URL:https://www.hpsphoto.org/event/january-competition-4/
LOCATION:GigaParts\, 6123 University Dr\, Huntsville\, AL
END:VEVENT
BEGIN:VEVENT
DTSTART;TZID=America/Chicago:20250113T183000
DTEND;TZID=America/Chicago:20250113T203000
DTSTAMP:20260424T014710
CREATED:20250112T152608Z
LAST-MODIFIED:20250112T152608Z
UID:18471-1736793000-1736800200@www.hpsphoto.org
SUMMARY:January Program
DESCRIPTION:iPhone Photography
URL:https://www.hpsphoto.org/event/january-program-4/
LOCATION:GigaParts\, 6123 University Dr\, Huntsville\, AL
END:VEVENT
BEGIN:VEVENT
DTSTART;TZID=America/Chicago:20241125T183000
DTEND;TZID=America/Chicago:20241125T203000
DTSTAMP:20260424T014710
CREATED:20241102T015842Z
LAST-MODIFIED:20241102T015842Z
UID:17979-1732559400-1732566600@www.hpsphoto.org
SUMMARY:November Competition - "Bottles"
DESCRIPTION:
URL:https://www.hpsphoto.org/event/november-competition-bottles/
LOCATION:GigaParts\, 6123 University Dr\, Huntsville\, AL
END:VEVENT
BEGIN:VEVENT
DTSTART;TZID=America/Chicago:20241111T183000
DTEND;TZID=America/Chicago:20241111T203000
DTSTAMP:20260424T014710
CREATED:20241102T020331Z
LAST-MODIFIED:20241102T020331Z
UID:17984-1731349800-1731357000@www.hpsphoto.org
SUMMARY:November Program - "Crud"
DESCRIPTION:The focus is on the photos submitted using “crud” distributed by Barbara Staggs.  See the Newsletter for details.
URL:https://www.hpsphoto.org/event/november-program-crud/
LOCATION:GigaParts\, 6123 University Dr\, Huntsville\, AL
END:VEVENT
BEGIN:VEVENT
DTSTART;TZID=America/Chicago:20241028T183000
DTEND;TZID=America/Chicago:20241028T203000
DTSTAMP:20260424T014710
CREATED:20241002T231100Z
LAST-MODIFIED:20241002T231100Z
UID:17871-1730140200-1730147400@www.hpsphoto.org
SUMMARY:Competition - Open
DESCRIPTION:Topic = Open (Anything goes)
URL:https://www.hpsphoto.org/event/competition-open/
LOCATION:GigaParts\, 6123 University Dr\, Huntsville\, AL
END:VEVENT
BEGIN:VEVENT
DTSTART;TZID=America/Chicago:20241014T183000
DTEND;TZID=America/Chicago:20241014T203000
DTSTAMP:20260424T014710
CREATED:20241002T230950Z
LAST-MODIFIED:20241002T230950Z
UID:17869-1728930600-1728937800@www.hpsphoto.org
SUMMARY:October Program
DESCRIPTION:Portraits – practical\, with Philip Flowers
URL:https://www.hpsphoto.org/event/october-program-4/
LOCATION:GigaParts\, 6123 University Dr\, Huntsville\, AL
END:VEVENT
BEGIN:VEVENT
DTSTART;TZID=America/Chicago:20240923T183000
DTEND;TZID=America/Chicago:20240923T203000
DTSTAMP:20260424T014710
CREATED:20240909T004607Z
LAST-MODIFIED:20240909T004725Z
UID:17754-1727116200-1727123400@www.hpsphoto.org
SUMMARY:Sept Program - Sports
DESCRIPTION:The topic is Sports.
URL:https://www.hpsphoto.org/event/sept-program-sports/
LOCATION:GigaParts\, 6123 University Dr\, Huntsville\, AL
END:VEVENT
BEGIN:VEVENT
DTSTART;TZID=America/Chicago:20240909T183000
DTEND;TZID=America/Chicago:20240909T203000
DTSTAMP:20260424T014710
CREATED:20240909T004455Z
LAST-MODIFIED:20240909T004455Z
UID:17752-1725906600-1725913800@www.hpsphoto.org
SUMMARY:Sept Program - Digital Printing
DESCRIPTION:Jose Betancourt talks about how to turn a digital file into a great print.
URL:https://www.hpsphoto.org/event/sept-program-digital-printing/
LOCATION:GigaParts\, 6123 University Dr\, Huntsville\, AL
END:VEVENT
BEGIN:VEVENT
DTSTART;TZID=America/Chicago:20240826T183000
DTEND;TZID=America/Chicago:20240826T203000
DTSTAMP:20260424T014710
CREATED:20240801T212607Z
LAST-MODIFIED:20240801T212607Z
UID:17633-1724697000-1724704200@www.hpsphoto.org
SUMMARY:August Competition
DESCRIPTION:The August Competition will be at GigaParts.  The topic is “Nature in Motion”. \n 
URL:https://www.hpsphoto.org/event/august-competition-2/
LOCATION:GigaParts\, 6123 University Dr\, Huntsville\, AL
END:VEVENT
BEGIN:VEVENT
DTSTART;TZID=America/Chicago:20240812T183000
DTEND;TZID=America/Chicago:20240812T203000
DTSTAMP:20260424T014710
CREATED:20240801T212444Z
LAST-MODIFIED:20240801T212444Z
UID:17631-1723487400-1723494600@www.hpsphoto.org
SUMMARY:August Program Meeting
DESCRIPTION:The August Program meeting will be at GigaParts at 6:30 pm.
URL:https://www.hpsphoto.org/event/august-program-meeting/
LOCATION:GigaParts\, 6123 University Dr\, Huntsville\, AL
END:VEVENT
BEGIN:VEVENT
DTSTART;TZID=America/Chicago:20240722T183000
DTEND;TZID=America/Chicago:20240722T210000
DTSTAMP:20260424T014710
CREATED:20240701T023553Z
LAST-MODIFIED:20240701T023553Z
UID:17539-1721673000-1721682000@www.hpsphoto.org
SUMMARY:July Competition - "Open"
DESCRIPTION:The topic is “Open”.  Anything goes.
URL:https://www.hpsphoto.org/event/july-competition-open/
LOCATION:GigaParts\, 6123 University Dr\, Huntsville\, AL
END:VEVENT
BEGIN:VEVENT
DTSTART;TZID=America/Chicago:20240708T183000
DTEND;TZID=America/Chicago:20240708T200000
DTSTAMP:20260424T014710
CREATED:20240701T023424Z
LAST-MODIFIED:20240701T023424Z
UID:17537-1720463400-1720468800@www.hpsphoto.org
SUMMARY:July Program - Still Life Practical
DESCRIPTION:Come and learn about still life techniques.
URL:https://www.hpsphoto.org/event/july-program-still-life-practical/
LOCATION:GigaParts\, 6123 University Dr\, Huntsville\, AL
END:VEVENT
BEGIN:VEVENT
DTSTART;TZID=America/Chicago:20240624T183000
DTEND;TZID=America/Chicago:20240624T203000
DTSTAMP:20260424T014710
CREATED:20240528T230502Z
LAST-MODIFIED:20240528T230502Z
UID:17412-1719253800-1719261000@www.hpsphoto.org
SUMMARY:June Competition - Lines/Angles/Patterns
DESCRIPTION:
URL:https://www.hpsphoto.org/event/june-competition-lines-angles-patterns/
LOCATION:GigaParts\, 6123 University Dr\, Huntsville\, AL
END:VEVENT
BEGIN:VEVENT
DTSTART;TZID=America/Chicago:20240610T183000
DTEND;TZID=America/Chicago:20240610T203000
DTSTAMP:20260424T014710
CREATED:20240527T221635Z
LAST-MODIFIED:20240527T221635Z
UID:17353-1718044200-1718051400@www.hpsphoto.org
SUMMARY:June Program - John Dersham
DESCRIPTION:Photography Shops
URL:https://www.hpsphoto.org/event/june-program-john-dersham/
LOCATION:GigaParts\, 6123 University Dr\, Huntsville\, AL
END:VEVENT
BEGIN:VEVENT
DTSTART;TZID=America/Chicago:20240527T183000
DTEND;TZID=America/Chicago:20240527T200000
DTSTAMP:20260424T014710
CREATED:20240507T185749Z
LAST-MODIFIED:20240507T185815Z
UID:17285-1716834600-1716840000@www.hpsphoto.org
SUMMARY:May Competition - "Alabama the Beautiful"
DESCRIPTION:
URL:https://www.hpsphoto.org/event/may-competition-alabama-the-beautiful/
LOCATION:GigaParts\, 6123 University Dr\, Huntsville\, AL
END:VEVENT
BEGIN:VEVENT
DTSTART;TZID=America/Chicago:20240513T183000
DTEND;TZID=America/Chicago:20240513T200000
DTSTAMP:20260424T014710
CREATED:20240507T185639Z
LAST-MODIFIED:20240507T185840Z
UID:17283-1715625000-1715630400@www.hpsphoto.org
SUMMARY:May Program - Bob Gathany
DESCRIPTION:Sports Photography
URL:https://www.hpsphoto.org/event/may-program-bob-gathany/
LOCATION:GigaParts\, 6123 University Dr\, Huntsville\, AL
END:VEVENT
BEGIN:VEVENT
DTSTART;TZID=America/Chicago:20240422T183000
DTEND;TZID=America/Chicago:20240422T203000
DTSTAMP:20260424T014710
CREATED:20240326T023726Z
LAST-MODIFIED:20240326T024224Z
UID:17048-1713810600-1713817800@www.hpsphoto.org
SUMMARY:April Competition
DESCRIPTION:The April Competition topic is “Abandoned or Discarded”.
URL:https://www.hpsphoto.org/event/april-competition/
LOCATION:GigaParts\, 6123 University Dr\, Huntsville\, AL
END:VEVENT
BEGIN:VEVENT
DTSTART;TZID=America/Chicago:20240408T183000
DTEND;TZID=America/Chicago:20240408T203000
DTSTAMP:20260424T014710
CREATED:20240326T023627Z
LAST-MODIFIED:20240326T024138Z
UID:17046-1712601000-1712608200@www.hpsphoto.org
SUMMARY:April Program
DESCRIPTION:The April Program will be devoted to scanning film.
URL:https://www.hpsphoto.org/event/april-program-3/
LOCATION:GigaParts\, 6123 University Dr\, Huntsville\, AL
ATTACH;FMTTYPE=image/jpeg:https://www.hpsphoto.org/wp-content/uploads/2024/03/image0.jpeg
END:VEVENT
BEGIN:VEVENT
DTSTART;TZID=America/Chicago:20240325T190000
DTEND;TZID=America/Chicago:20240325T210000
DTSTAMP:20260424T014710
CREATED:20240303T193531Z
LAST-MODIFIED:20240303T194540Z
UID:16949-1711393200-1711400400@www.hpsphoto.org
SUMMARY:March Competition - Open
DESCRIPTION:The topic is “Open” (anything goes)\, and the judge will be Cara Fuller.
URL:https://www.hpsphoto.org/event/march-competition-open-2/
LOCATION:Trinity United Methodist\, 607 Airport Rd SW\, Huntsvile\, AL\, 35802\, United States
END:VEVENT
BEGIN:VEVENT
DTSTART;TZID=America/Chicago:20240311T190000
DTEND;TZID=America/Chicago:20240311T210000
DTSTAMP:20260424T014710
CREATED:20240303T193439Z
LAST-MODIFIED:20240308T232356Z
UID:16947-1710183600-1710190800@www.hpsphoto.org
SUMMARY:March Program - Chris Baker
DESCRIPTION:Iceland Photo Tour
URL:https://www.hpsphoto.org/event/march-program-conner-hill/
LOCATION:Trinity United Methodist\, 607 Airport Rd SW\, Huntsvile\, AL\, 35802\, United States
END:VEVENT
BEGIN:VEVENT
DTSTART;TZID=America/Chicago:20240226T190000
DTEND;TZID=America/Chicago:20240226T210000
DTSTAMP:20260424T014710
CREATED:20240208T033047Z
LAST-MODIFIED:20240208T033047Z
UID:16850-1708974000-1708981200@www.hpsphoto.org
SUMMARY:February Competition Meeting
DESCRIPTION:
URL:https://www.hpsphoto.org/event/february-competition-meeting/
LOCATION:Trinity United Methodist\, 607 Airport Rd SW\, Huntsvile\, AL\, 35802\, United States
END:VEVENT
BEGIN:VEVENT
DTSTART;TZID=America/Chicago:20240212T190000
DTEND;TZID=America/Chicago:20240212T210000
DTSTAMP:20260424T014710
CREATED:20240208T033003Z
LAST-MODIFIED:20240208T033003Z
UID:16848-1707764400-1707771600@www.hpsphoto.org
SUMMARY:February Program Meeting
DESCRIPTION:
URL:https://www.hpsphoto.org/event/february-program-meeting/
LOCATION:Trinity United Methodist\, 607 Airport Rd SW\, Huntsvile\, AL\, 35802\, United States
END:VEVENT
BEGIN:VEVENT
DTSTART;TZID=America/Chicago:20240207T080000
DTEND;TZID=America/Chicago:20240207T170000
DTSTAMP:20260424T014710
CREATED:20240208T033341Z
LAST-MODIFIED:20240208T033341Z
UID:16852-1707292800-1707325200@www.hpsphoto.org
SUMMARY:February Program - Philip Flowers
DESCRIPTION:February Program – Glacier National Park and Lightroom Tricks
URL:https://www.hpsphoto.org/event/february-program-philip-flowers/
END:VEVENT
BEGIN:VEVENT
DTSTART;TZID=America/Chicago:20240122T190000
DTEND;TZID=America/Chicago:20240122T210000
DTSTAMP:20260424T014710
CREATED:20231229T145320Z
LAST-MODIFIED:20231229T145320Z
UID:16732-1705950000-1705957200@www.hpsphoto.org
SUMMARY:January Competition
DESCRIPTION:
URL:https://www.hpsphoto.org/event/january-competition-3/
LOCATION:Trinity United Methodist\, 607 Airport Rd SW\, Huntsvile\, AL\, 35802\, United States
END:VEVENT
BEGIN:VEVENT
DTSTART;TZID=America/Chicago:20240117T183000
DTEND;TZID=America/Chicago:20240117T193000
DTSTAMP:20260424T014710
CREATED:20231229T145430Z
LAST-MODIFIED:20231229T145430Z
UID:16735-1705516200-1705519800@www.hpsphoto.org
SUMMARY:Film Group Meeting
DESCRIPTION:The basics of film cameras.
URL:https://www.hpsphoto.org/event/film-group-meeting/
LOCATION:Huntsville – Madison County Library\, 915 Monroe Street SW\, Huntsville\, Alabama\, 35801\, United States
END:VEVENT
BEGIN:VEVENT
DTSTART;TZID=America/Chicago:20240108T190000
DTEND;TZID=America/Chicago:20240108T210000
DTSTAMP:20260424T014710
CREATED:20231229T145225Z
LAST-MODIFIED:20231229T145225Z
UID:16730-1704740400-1704747600@www.hpsphoto.org
SUMMARY:January Program
DESCRIPTION:
URL:https://www.hpsphoto.org/event/january-program-3/
LOCATION:Trinity United Methodist\, 607 Airport Rd SW\, Huntsvile\, AL\, 35802\, United States
END:VEVENT
BEGIN:VEVENT
DTSTART;TZID=America/Chicago:20231220T183000
DTEND;TZID=America/Chicago:20231220T193000
DTSTAMP:20260424T014710
CREATED:20231201T162838Z
LAST-MODIFIED:20231201T162838Z
UID:16642-1703097000-1703100600@www.hpsphoto.org
SUMMARY:Film Group
DESCRIPTION:Film Group organizational meeting.
URL:https://www.hpsphoto.org/event/film-group/
LOCATION:Huntsville – Madison County Library\, 915 Monroe Street SW\, Huntsville\, Alabama\, 35801\, United States
END:VEVENT
BEGIN:VEVENT
DTSTART;TZID=America/Chicago:20231214T180000
DTEND;TZID=America/Chicago:20231214T180000
DTSTAMP:20260424T014710
CREATED:20231201T162741Z
LAST-MODIFIED:20231201T162741Z
UID:16640-1702576800-1702576800@www.hpsphoto.org
SUMMARY:End of Year Celebration
DESCRIPTION:Pot luck end of year celebration.
URL:https://www.hpsphoto.org/event/end-of-year-celebration/
LOCATION:Trinity United Methodist\, 607 Airport Rd SW\, Huntsvile\, AL\, 35802\, United States
END:VEVENT
BEGIN:VEVENT
DTSTART;TZID=America/Chicago:20231127T190000
DTEND;TZID=America/Chicago:20231127T210000
DTSTAMP:20260424T014710
CREATED:20231028T131021Z
LAST-MODIFIED:20231028T131021Z
UID:16284-1701111600-1701118800@www.hpsphoto.org
SUMMARY:November Competition
DESCRIPTION:The topic is “Doors and Windows”.
URL:https://www.hpsphoto.org/event/november-competition-3/
LOCATION:Trinity United Methodist\, 607 Airport Rd SW\, Huntsvile\, AL\, 35802\, United States
END:VEVENT
END:VCALENDAR