BEGIN:VCALENDAR
VERSION:2.0
PRODID:-//Huntsville Photographic Society - ECPv6.15.20//NONSGML v1.0//EN
CALSCALE:GREGORIAN
METHOD:PUBLISH
X-WR-CALNAME:Huntsville Photographic Society
X-ORIGINAL-URL:https://www.hpsphoto.org
X-WR-CALDESC:Events for Huntsville Photographic Society
REFRESH-INTERVAL;VALUE=DURATION:PT1H
X-Robots-Tag:noindex
X-PUBLISHED-TTL:PT1H
BEGIN:VTIMEZONE
TZID:America/Chicago
BEGIN:DAYLIGHT
TZOFFSETFROM:-0600
TZOFFSETTO:-0500
TZNAME:CDT
DTSTART:20230312T080000
END:DAYLIGHT
BEGIN:STANDARD
TZOFFSETFROM:-0500
TZOFFSETTO:-0600
TZNAME:CST
DTSTART:20231105T070000
END:STANDARD
BEGIN:DAYLIGHT
TZOFFSETFROM:-0600
TZOFFSETTO:-0500
TZNAME:CDT
DTSTART:20240310T080000
END:DAYLIGHT
BEGIN:STANDARD
TZOFFSETFROM:-0500
TZOFFSETTO:-0600
TZNAME:CST
DTSTART:20241103T070000
END:STANDARD
BEGIN:DAYLIGHT
TZOFFSETFROM:-0600
TZOFFSETTO:-0500
TZNAME:CDT
DTSTART:20250309T080000
END:DAYLIGHT
BEGIN:STANDARD
TZOFFSETFROM:-0500
TZOFFSETTO:-0600
TZNAME:CST
DTSTART:20251102T070000
END:STANDARD
BEGIN:DAYLIGHT
TZOFFSETFROM:-0600
TZOFFSETTO:-0500
TZNAME:CDT
DTSTART:20260308T080000
END:DAYLIGHT
BEGIN:STANDARD
TZOFFSETFROM:-0500
TZOFFSETTO:-0600
TZNAME:CST
DTSTART:20261101T070000
END:STANDARD
END:VTIMEZONE
BEGIN:VEVENT
DTSTART;TZID=America/Chicago:20250825T183000
DTEND;TZID=America/Chicago:20250825T200000
DTSTAMP:20260423T192548
CREATED:20250604T145350Z
LAST-MODIFIED:20250604T145350Z
UID:19144-1756146600-1756152000@www.hpsphoto.org
SUMMARY:August Competition Judging\, Topic is "Formations"
DESCRIPTION:
URL:https://www.hpsphoto.org/event/august-competition-judging-topic-is-formations/
LOCATION:GigaParts\, 6123 University Dr\, Huntsville\, AL
END:VEVENT
BEGIN:VEVENT
DTSTART;VALUE=DATE:20250822
DTEND;VALUE=DATE:20250823
DTSTAMP:20260423T192548
CREATED:20250805T185615Z
LAST-MODIFIED:20250805T185615Z
UID:19388-1755820800-1755907199@www.hpsphoto.org
SUMMARY:November's "Creative Crud" participation email due.
DESCRIPTION:If you would like to participate in November’s Creative Crud activity\, please send an email to Barbara Staggs listing your name and email address.
URL:https://www.hpsphoto.org/event/novembers-creative-crud-participation-email-due/
END:VEVENT
BEGIN:VEVENT
DTSTART;TZID=America/Chicago:20250818T200000
DTEND;TZID=America/Chicago:20250818T200000
DTSTAMP:20260423T192548
CREATED:20250604T144950Z
LAST-MODIFIED:20250604T144950Z
UID:19142-1755547200-1755547200@www.hpsphoto.org
SUMMARY:August Competition Entries Due\, Topic is "Formations"
DESCRIPTION:All entries must be uploaded by 8:00PM.
URL:https://www.hpsphoto.org/event/august-competition-entries-due-topic-is-formations/
END:VEVENT
BEGIN:VEVENT
DTSTART;TZID=America/Chicago:20250811T183000
DTEND;TZID=America/Chicago:20250811T200000
DTSTAMP:20260423T192548
CREATED:20250604T144636Z
LAST-MODIFIED:20250604T144636Z
UID:19140-1754937000-1754942400@www.hpsphoto.org
SUMMARY:August Program\, Historic Watermills as Fine Art Photography.
DESCRIPTION:Presented by Ken Boyd.
URL:https://www.hpsphoto.org/event/august-program-historic-watermills-as-fine-art-photography/
LOCATION:GigaParts\, 6123 University Dr\, Huntsville\, AL
END:VEVENT
BEGIN:VEVENT
DTSTART;TZID=America/Chicago:20250728T183000
DTEND;TZID=America/Chicago:20250728T200000
DTSTAMP:20260423T192548
CREATED:20250604T144254Z
LAST-MODIFIED:20250604T144254Z
UID:19138-1753727400-1753732800@www.hpsphoto.org
SUMMARY:July Competition Judging\,  Topic is "Open"
DESCRIPTION:
URL:https://www.hpsphoto.org/event/july-competition-judging-topic-is-open/
LOCATION:GigaParts\, 6123 University Dr\, Huntsville\, AL
END:VEVENT
BEGIN:VEVENT
DTSTART;TZID=America/Chicago:20250721T200000
DTEND;TZID=America/Chicago:20250721T200000
DTSTAMP:20260423T192548
CREATED:20250604T144005Z
LAST-MODIFIED:20250604T144005Z
UID:19136-1753128000-1753128000@www.hpsphoto.org
SUMMARY:July Competition Entries Due\, Topic is "Open"
DESCRIPTION:All entries must be uploaded by 8:00PM.
URL:https://www.hpsphoto.org/event/july-competition-entries-due-topic-is-open/
END:VEVENT
BEGIN:VEVENT
DTSTART;TZID=America/Chicago:20250716T180000
DTEND;TZID=America/Chicago:20250716T193000
DTSTAMP:20260423T192548
CREATED:20250604T122200Z
LAST-MODIFIED:20250604T122451Z
UID:19129-1752688800-1752694200@www.hpsphoto.org
SUMMARY:GigaParts Class\, Intro to Astrophotography
DESCRIPTION:Presented by Chris Baker. Sign up on the GigaParts website.
URL:https://www.hpsphoto.org/event/gigaparts-class-intro-to-astrophotography-by-chris-baker/
LOCATION:GigaParts\, 6123 University Dr\, Huntsville\, AL
END:VEVENT
BEGIN:VEVENT
DTSTART;TZID=America/Chicago:20250714T183000
DTEND;TZID=America/Chicago:20250714T200000
DTSTAMP:20260423T192548
CREATED:20250604T112416Z
LAST-MODIFIED:20250604T121317Z
UID:19122-1752517800-1752523200@www.hpsphoto.org
SUMMARY:July Program\, Introduction to Infrared Photography.
DESCRIPTION:Presented by Chris Baker.
URL:https://www.hpsphoto.org/event/july-program-introduction-to-infrared-photography/
LOCATION:GigaParts\, 6123 University Dr\, Huntsville\, AL
END:VEVENT
BEGIN:VEVENT
DTSTART;TZID=America/Chicago:20250623T183000
DTEND;TZID=America/Chicago:20250623T200000
DTSTAMP:20260423T192548
CREATED:20250603T191405Z
LAST-MODIFIED:20250606T090336Z
UID:19096-1750703400-1750708800@www.hpsphoto.org
SUMMARY:June Competition Judging\, Topic is "Scenic North Alabama / South Tennessee.
DESCRIPTION:Mary Beth Johns from Athens State is our judge this month.
URL:https://www.hpsphoto.org/event/competition-meeting-3/
LOCATION:GigaParts\, 6123 University Dr\, Huntsville\, AL
END:VEVENT
BEGIN:VEVENT
DTSTART;TZID=America/Chicago:20250618T180000
DTEND;TZID=America/Chicago:20250618T193000
DTSTAMP:20260423T192548
CREATED:20250604T111600Z
LAST-MODIFIED:20250604T122817Z
UID:19119-1750269600-1750275000@www.hpsphoto.org
SUMMARY:GigaParts Class\, For the Birds: Basics of Bird Photography
DESCRIPTION:Presented by Chris Baker. Sign up on the GigaParts website.
URL:https://www.hpsphoto.org/event/gigaparts-class-bird-photography-by-chris-baker/
LOCATION:GigaParts\, 6123 University Dr\, Huntsville\, AL
END:VEVENT
BEGIN:VEVENT
DTSTART;TZID=America/Chicago:20250616T200000
DTEND;TZID=America/Chicago:20250616T200000
DTSTAMP:20260423T192548
CREATED:20250603T190826Z
LAST-MODIFIED:20250606T090226Z
UID:19093-1750104000-1750104000@www.hpsphoto.org
SUMMARY:June Competition Entries Due\, Topic is "Scenic North Alabama / South Tennessee"
DESCRIPTION:All entries must be uploaded by 8:00PM.
URL:https://www.hpsphoto.org/event/june-competition-entries-due/
END:VEVENT
BEGIN:VEVENT
DTSTART;TZID=America/Chicago:20250614T093000
DTEND;TZID=America/Chicago:20250614T120000
DTSTAMP:20260423T192548
CREATED:20250603T192127Z
LAST-MODIFIED:20250604T105155Z
UID:19099-1749893400-1749902400@www.hpsphoto.org
SUMMARY:Huntsville Botanical Gardens Outing
DESCRIPTION:Landscapes\, flowers\, butterflies\, birds\, insects for photography in a great setting.  All skill levels are welcome!!  We will meet in the lobby.
URL:https://www.hpsphoto.org/event/huntsville-botanical-gardens-outing/
LOCATION:Huntsville Botanical Garden\, 4747 Bob Wallace Avenue\, Huntsville\, AL\, 35805\, United States
END:VEVENT
BEGIN:VEVENT
DTSTART;TZID=America/Chicago:20250612T180000
DTEND;TZID=America/Chicago:20250612T193000
DTSTAMP:20260423T192548
CREATED:20250604T111109Z
LAST-MODIFIED:20250604T123213Z
UID:19117-1749751200-1749756600@www.hpsphoto.org
SUMMARY:GigaParts Class\, Photography: Post-Processing Fundamentals
DESCRIPTION:Presented by Chris Baker. Sign up on the GigaParts website.
URL:https://www.hpsphoto.org/event/gigaparts-class-post-processing-fundamentals-photography-by-chris-baker/
LOCATION:GigaParts\, 6123 University Dr\, Huntsville\, AL
END:VEVENT
BEGIN:VEVENT
DTSTART;TZID=America/Chicago:20250609T183000
DTEND;TZID=America/Chicago:20250609T200000
DTSTAMP:20260423T192548
CREATED:20250603T155300Z
LAST-MODIFIED:20250604T121204Z
UID:19091-1749493800-1749499200@www.hpsphoto.org
SUMMARY:June Program\, Art of Black and White in Landscape
DESCRIPTION:Presented By Dusty Doddridge.
URL:https://www.hpsphoto.org/event/june-monthly-meeting/
LOCATION:GigaParts\, 6123 University Dr\, Huntsville\, AL
END:VEVENT
BEGIN:VEVENT
DTSTART;TZID=America/Chicago:20250428T183000
DTEND;TZID=America/Chicago:20250428T203000
DTSTAMP:20260423T192548
CREATED:20250401T182205Z
LAST-MODIFIED:20250401T182205Z
UID:18854-1745865000-1745872200@www.hpsphoto.org
SUMMARY:April Competition
DESCRIPTION:April competition topic  is “Architectural”.
URL:https://www.hpsphoto.org/event/april-competition-2/
LOCATION:GigaParts\, 6123 University Dr\, Huntsville\, AL
END:VEVENT
BEGIN:VEVENT
DTSTART;TZID=America/Chicago:20250414T183000
DTEND;TZID=America/Chicago:20250414T203000
DTSTAMP:20260423T192548
CREATED:20250401T182053Z
LAST-MODIFIED:20250401T182053Z
UID:18852-1744655400-1744662600@www.hpsphoto.org
SUMMARY:April Program
DESCRIPTION:April Progam – TBA
URL:https://www.hpsphoto.org/event/april-program-4/
LOCATION:GigaParts\, 6123 University Dr\, Huntsville\, AL
END:VEVENT
BEGIN:VEVENT
DTSTART;TZID=America/Chicago:20250324T183000
DTEND;TZID=America/Chicago:20250324T203000
DTSTAMP:20260423T192548
CREATED:20250307T223017Z
LAST-MODIFIED:20250307T223017Z
UID:18754-1742841000-1742848200@www.hpsphoto.org
SUMMARY:March Competition
DESCRIPTION:
URL:https://www.hpsphoto.org/event/march-competition-2/
LOCATION:GigaParts\, 6123 University Dr\, Huntsville\, AL
END:VEVENT
BEGIN:VEVENT
DTSTART;TZID=America/Chicago:20250310T183000
DTEND;TZID=America/Chicago:20250310T200000
DTSTAMP:20260423T192548
CREATED:20250307T215630Z
LAST-MODIFIED:20250307T215838Z
UID:18743-1741631400-1741636800@www.hpsphoto.org
SUMMARY:March Program
DESCRIPTION:  \n 
URL:https://www.hpsphoto.org/event/18743/
END:VEVENT
BEGIN:VEVENT
DTSTART;TZID=America/Chicago:20250224T183000
DTEND;TZID=America/Chicago:20250224T203000
DTSTAMP:20260423T192548
CREATED:20250130T021358Z
LAST-MODIFIED:20250130T021358Z
UID:18620-1740421800-1740429000@www.hpsphoto.org
SUMMARY:February Competition
DESCRIPTION:
URL:https://www.hpsphoto.org/event/february-competition-2/
LOCATION:GigaParts\, 6123 University Dr\, Huntsville\, AL
END:VEVENT
BEGIN:VEVENT
DTSTART;TZID=America/Chicago:20250210T183000
DTEND;TZID=America/Chicago:20250210T203000
DTSTAMP:20260423T192548
CREATED:20250130T021238Z
LAST-MODIFIED:20250130T021238Z
UID:18618-1739212200-1739219400@www.hpsphoto.org
SUMMARY:Feb Program
DESCRIPTION:
URL:https://www.hpsphoto.org/event/feb-program/
LOCATION:GigaParts\, 6123 University Dr\, Huntsville\, AL
END:VEVENT
BEGIN:VEVENT
DTSTART;TZID=America/Chicago:20250127T183000
DTEND;TZID=America/Chicago:20250127T203000
DTSTAMP:20260423T192548
CREATED:20250112T152707Z
LAST-MODIFIED:20250112T152707Z
UID:18473-1738002600-1738009800@www.hpsphoto.org
SUMMARY:January Competition
DESCRIPTION:Looking Up / Looking Down
URL:https://www.hpsphoto.org/event/january-competition-4/
LOCATION:GigaParts\, 6123 University Dr\, Huntsville\, AL
END:VEVENT
BEGIN:VEVENT
DTSTART;TZID=America/Chicago:20250113T183000
DTEND;TZID=America/Chicago:20250113T203000
DTSTAMP:20260423T192548
CREATED:20250112T152608Z
LAST-MODIFIED:20250112T152608Z
UID:18471-1736793000-1736800200@www.hpsphoto.org
SUMMARY:January Program
DESCRIPTION:iPhone Photography
URL:https://www.hpsphoto.org/event/january-program-4/
LOCATION:GigaParts\, 6123 University Dr\, Huntsville\, AL
END:VEVENT
BEGIN:VEVENT
DTSTART;TZID=America/Chicago:20241125T183000
DTEND;TZID=America/Chicago:20241125T203000
DTSTAMP:20260423T192548
CREATED:20241102T015842Z
LAST-MODIFIED:20241102T015842Z
UID:17979-1732559400-1732566600@www.hpsphoto.org
SUMMARY:November Competition - "Bottles"
DESCRIPTION:
URL:https://www.hpsphoto.org/event/november-competition-bottles/
LOCATION:GigaParts\, 6123 University Dr\, Huntsville\, AL
END:VEVENT
BEGIN:VEVENT
DTSTART;TZID=America/Chicago:20241111T183000
DTEND;TZID=America/Chicago:20241111T203000
DTSTAMP:20260423T192548
CREATED:20241102T020331Z
LAST-MODIFIED:20241102T020331Z
UID:17984-1731349800-1731357000@www.hpsphoto.org
SUMMARY:November Program - "Crud"
DESCRIPTION:The focus is on the photos submitted using “crud” distributed by Barbara Staggs.  See the Newsletter for details.
URL:https://www.hpsphoto.org/event/november-program-crud/
LOCATION:GigaParts\, 6123 University Dr\, Huntsville\, AL
END:VEVENT
BEGIN:VEVENT
DTSTART;TZID=America/Chicago:20241028T183000
DTEND;TZID=America/Chicago:20241028T203000
DTSTAMP:20260423T192548
CREATED:20241002T231100Z
LAST-MODIFIED:20241002T231100Z
UID:17871-1730140200-1730147400@www.hpsphoto.org
SUMMARY:Competition - Open
DESCRIPTION:Topic = Open (Anything goes)
URL:https://www.hpsphoto.org/event/competition-open/
LOCATION:GigaParts\, 6123 University Dr\, Huntsville\, AL
END:VEVENT
BEGIN:VEVENT
DTSTART;TZID=America/Chicago:20241014T183000
DTEND;TZID=America/Chicago:20241014T203000
DTSTAMP:20260423T192548
CREATED:20241002T230950Z
LAST-MODIFIED:20241002T230950Z
UID:17869-1728930600-1728937800@www.hpsphoto.org
SUMMARY:October Program
DESCRIPTION:Portraits – practical\, with Philip Flowers
URL:https://www.hpsphoto.org/event/october-program-4/
LOCATION:GigaParts\, 6123 University Dr\, Huntsville\, AL
END:VEVENT
BEGIN:VEVENT
DTSTART;TZID=America/Chicago:20240923T183000
DTEND;TZID=America/Chicago:20240923T203000
DTSTAMP:20260423T192548
CREATED:20240909T004607Z
LAST-MODIFIED:20240909T004725Z
UID:17754-1727116200-1727123400@www.hpsphoto.org
SUMMARY:Sept Program - Sports
DESCRIPTION:The topic is Sports.
URL:https://www.hpsphoto.org/event/sept-program-sports/
LOCATION:GigaParts\, 6123 University Dr\, Huntsville\, AL
END:VEVENT
BEGIN:VEVENT
DTSTART;TZID=America/Chicago:20240909T183000
DTEND;TZID=America/Chicago:20240909T203000
DTSTAMP:20260423T192548
CREATED:20240909T004455Z
LAST-MODIFIED:20240909T004455Z
UID:17752-1725906600-1725913800@www.hpsphoto.org
SUMMARY:Sept Program - Digital Printing
DESCRIPTION:Jose Betancourt talks about how to turn a digital file into a great print.
URL:https://www.hpsphoto.org/event/sept-program-digital-printing/
LOCATION:GigaParts\, 6123 University Dr\, Huntsville\, AL
END:VEVENT
BEGIN:VEVENT
DTSTART;TZID=America/Chicago:20240826T183000
DTEND;TZID=America/Chicago:20240826T203000
DTSTAMP:20260423T192548
CREATED:20240801T212607Z
LAST-MODIFIED:20240801T212607Z
UID:17633-1724697000-1724704200@www.hpsphoto.org
SUMMARY:August Competition
DESCRIPTION:The August Competition will be at GigaParts.  The topic is “Nature in Motion”. \n 
URL:https://www.hpsphoto.org/event/august-competition-2/
LOCATION:GigaParts\, 6123 University Dr\, Huntsville\, AL
END:VEVENT
BEGIN:VEVENT
DTSTART;TZID=America/Chicago:20240812T183000
DTEND;TZID=America/Chicago:20240812T203000
DTSTAMP:20260423T192548
CREATED:20240801T212444Z
LAST-MODIFIED:20240801T212444Z
UID:17631-1723487400-1723494600@www.hpsphoto.org
SUMMARY:August Program Meeting
DESCRIPTION:The August Program meeting will be at GigaParts at 6:30 pm.
URL:https://www.hpsphoto.org/event/august-program-meeting/
LOCATION:GigaParts\, 6123 University Dr\, Huntsville\, AL
END:VEVENT
END:VCALENDAR