BEGIN:VCALENDAR
VERSION:2.0
PRODID:-//Huntsville Photographic Society - ECPv6.15.20//NONSGML v1.0//EN
CALSCALE:GREGORIAN
METHOD:PUBLISH
X-ORIGINAL-URL:https://www.hpsphoto.org
X-WR-CALDESC:Events for Huntsville Photographic Society
REFRESH-INTERVAL;VALUE=DURATION:PT1H
X-Robots-Tag:noindex
X-PUBLISHED-TTL:PT1H
BEGIN:VTIMEZONE
TZID:America/Chicago
BEGIN:DAYLIGHT
TZOFFSETFROM:-0600
TZOFFSETTO:-0500
TZNAME:CDT
DTSTART:20250309T080000
END:DAYLIGHT
BEGIN:STANDARD
TZOFFSETFROM:-0500
TZOFFSETTO:-0600
TZNAME:CST
DTSTART:20251102T070000
END:STANDARD
BEGIN:DAYLIGHT
TZOFFSETFROM:-0600
TZOFFSETTO:-0500
TZNAME:CDT
DTSTART:20260308T080000
END:DAYLIGHT
BEGIN:STANDARD
TZOFFSETFROM:-0500
TZOFFSETTO:-0600
TZNAME:CST
DTSTART:20261101T070000
END:STANDARD
BEGIN:DAYLIGHT
TZOFFSETFROM:-0600
TZOFFSETTO:-0500
TZNAME:CDT
DTSTART:20270314T080000
END:DAYLIGHT
BEGIN:STANDARD
TZOFFSETFROM:-0500
TZOFFSETTO:-0600
TZNAME:CST
DTSTART:20271107T070000
END:STANDARD
END:VTIMEZONE
BEGIN:VEVENT
DTSTART;TZID=America/Chicago:20260112T183000
DTEND;TZID=America/Chicago:20260112T200000
DTSTAMP:20260423T165908
CREATED:20260224T215802Z
LAST-MODIFIED:20260224T215802Z
UID:20284-1768242600-1768248000@www.hpsphoto.org
SUMMARY:January Program
DESCRIPTION:
URL:https://www.hpsphoto.org/event/january-program-5/
END:VEVENT
BEGIN:VEVENT
DTSTART;TZID=America/Chicago:20260126T183000
DTEND;TZID=America/Chicago:20260126T200000
DTSTAMP:20260423T165908
CREATED:20260224T215841Z
LAST-MODIFIED:20260224T215841Z
UID:20286-1769452200-1769457600@www.hpsphoto.org
SUMMARY:January Competition
DESCRIPTION:
URL:https://www.hpsphoto.org/event/january-competition-5/
END:VEVENT
BEGIN:VEVENT
DTSTART;TZID=America/Chicago:20260209T183000
DTEND;TZID=America/Chicago:20260209T200000
DTSTAMP:20260423T165908
CREATED:20260224T220119Z
LAST-MODIFIED:20260224T220119Z
UID:20292-1770661800-1770667200@www.hpsphoto.org
SUMMARY:February Program - Keith Bozeman Astro Photography
DESCRIPTION:
URL:https://www.hpsphoto.org/event/february-program-keith-bozeman-astro-photography/
END:VEVENT
BEGIN:VEVENT
DTSTART;TZID=America/Chicago:20260221T083000
DTEND;TZID=America/Chicago:20260221T120000
DTSTAMP:20260423T165908
CREATED:20260224T215924Z
LAST-MODIFIED:20260224T220204Z
UID:20288-1771662600-1771675200@www.hpsphoto.org
SUMMARY:February Workshop - Lightroom
DESCRIPTION:
URL:https://www.hpsphoto.org/event/february-program/
END:VEVENT
BEGIN:VEVENT
DTSTART;TZID=America/Chicago:20260223T183000
DTEND;TZID=America/Chicago:20260223T200000
DTSTAMP:20260423T165908
CREATED:20260224T215957Z
LAST-MODIFIED:20260224T215957Z
UID:20290-1771871400-1771876800@www.hpsphoto.org
SUMMARY:February Competition
DESCRIPTION:
URL:https://www.hpsphoto.org/event/february-competition-3/
END:VEVENT
BEGIN:VEVENT
DTSTART;TZID=America/Chicago:20260309T183000
DTEND;TZID=America/Chicago:20260309T200000
DTSTAMP:20260423T165908
CREATED:20260224T215513Z
LAST-MODIFIED:20260309T000926Z
UID:20276-1773081000-1773086400@www.hpsphoto.org
SUMMARY:March Program - Portrait Photography with Cindy Shaver
DESCRIPTION:Cindy Shaver will talk about Portrait Lighting and Photography
URL:https://www.hpsphoto.org/event/march-program/
END:VEVENT
BEGIN:VEVENT
DTSTART;TZID=America/Chicago:20260321T090000
DTEND;TZID=America/Chicago:20260321T120000
DTSTAMP:20260423T165908
CREATED:20260224T215229Z
LAST-MODIFIED:20260224T220243Z
UID:20272-1774083600-1774094400@www.hpsphoto.org
SUMMARY:March Workshop - Photoshop with Ken Boyd
DESCRIPTION:
URL:https://www.hpsphoto.org/event/march-program-photoshop-with-ken-boyd/
LOCATION:GigaParts\, 6123 University Dr\, Huntsville\, AL
END:VEVENT
BEGIN:VEVENT
DTSTART;TZID=America/Chicago:20260323T183000
DTEND;TZID=America/Chicago:20260323T200000
DTSTAMP:20260423T165908
CREATED:20260224T215548Z
LAST-MODIFIED:20260224T215548Z
UID:20278-1774290600-1774296000@www.hpsphoto.org
SUMMARY:March Competition
DESCRIPTION:
URL:https://www.hpsphoto.org/event/march-competition-3/
END:VEVENT
BEGIN:VEVENT
DTSTART;TZID=America/Chicago:20260413T183000
DTEND;TZID=America/Chicago:20260413T200000
DTSTAMP:20260423T165908
CREATED:20260224T215616Z
LAST-MODIFIED:20260410T235435Z
UID:20280-1776105000-1776110400@www.hpsphoto.org
SUMMARY:April Program - José Betancourt
DESCRIPTION:Cyanotypes – History and Process with José Betancourt and Steven Butler
URL:https://www.hpsphoto.org/event/april-program-5/
END:VEVENT
BEGIN:VEVENT
DTSTART;VALUE=DATE:20260425
DTEND;VALUE=DATE:20260426
DTSTAMP:20260423T165908
CREATED:20260224T215422Z
LAST-MODIFIED:20260224T215422Z
UID:20274-1777075200-1777161599@www.hpsphoto.org
SUMMARY:April Program - Old Car City Photo Shoot
DESCRIPTION:
URL:https://www.hpsphoto.org/event/april-program-old-car-city-photo-shoot/
END:VEVENT
BEGIN:VEVENT
DTSTART;TZID=America/Chicago:20260427T183000
DTEND;TZID=America/Chicago:20260427T200000
DTSTAMP:20260423T165908
CREATED:20260224T215648Z
LAST-MODIFIED:20260410T235525Z
UID:20282-1777314600-1777320000@www.hpsphoto.org
SUMMARY:April Competition - Macro
DESCRIPTION:
URL:https://www.hpsphoto.org/event/april-competition-3/
END:VEVENT
BEGIN:VEVENT
DTSTART;TZID=America/Chicago:20260511T183000
DTEND;TZID=America/Chicago:20260511T200000
DTSTAMP:20260423T165908
CREATED:20260224T220336Z
LAST-MODIFIED:20260224T220336Z
UID:20296-1778524200-1778529600@www.hpsphoto.org
SUMMARY:May Program
DESCRIPTION:
URL:https://www.hpsphoto.org/event/may-program-2/
END:VEVENT
BEGIN:VEVENT
DTSTART;TZID=America/Chicago:20260525T183000
DTEND;TZID=America/Chicago:20260525T200000
DTSTAMP:20260423T165908
CREATED:20260224T220407Z
LAST-MODIFIED:20260224T220407Z
UID:20298-1779733800-1779739200@www.hpsphoto.org
SUMMARY:May Competition
DESCRIPTION:
URL:https://www.hpsphoto.org/event/may-competition-3/
END:VEVENT
BEGIN:VEVENT
DTSTART;TZID=America/Chicago:20260608T183000
DTEND;TZID=America/Chicago:20260608T200000
DTSTAMP:20260423T165908
CREATED:20260224T220502Z
LAST-MODIFIED:20260224T220502Z
UID:20300-1780943400-1780948800@www.hpsphoto.org
SUMMARY:June Program
DESCRIPTION:
URL:https://www.hpsphoto.org/event/june-program-2/
END:VEVENT
BEGIN:VEVENT
DTSTART;TZID=America/Chicago:20260622T183000
DTEND;TZID=America/Chicago:20260622T200000
DTSTAMP:20260423T165908
CREATED:20260224T220532Z
LAST-MODIFIED:20260224T220532Z
UID:20302-1782153000-1782158400@www.hpsphoto.org
SUMMARY:June Competition
DESCRIPTION:
URL:https://www.hpsphoto.org/event/june-competition/
END:VEVENT
BEGIN:VEVENT
DTSTART;TZID=America/Chicago:20260713T183000
DTEND;TZID=America/Chicago:20260713T200000
DTSTAMP:20260423T165908
CREATED:20260224T220606Z
LAST-MODIFIED:20260224T220606Z
UID:20304-1783967400-1783972800@www.hpsphoto.org
SUMMARY:July Program
DESCRIPTION:
URL:https://www.hpsphoto.org/event/july-program-2/
END:VEVENT
BEGIN:VEVENT
DTSTART;TZID=America/Chicago:20260727T183000
DTEND;TZID=America/Chicago:20260727T200000
DTSTAMP:20260423T165908
CREATED:20260224T220639Z
LAST-MODIFIED:20260224T220639Z
UID:20306-1785177000-1785182400@www.hpsphoto.org
SUMMARY:July Competition
DESCRIPTION:
URL:https://www.hpsphoto.org/event/july-competition-3/
END:VEVENT
BEGIN:VEVENT
DTSTART;TZID=America/Chicago:20260810T183000
DTEND;TZID=America/Chicago:20260810T200000
DTSTAMP:20260423T165908
CREATED:20260226T024934Z
LAST-MODIFIED:20260226T024934Z
UID:20311-1786386600-1786392000@www.hpsphoto.org
SUMMARY:August Program
DESCRIPTION:
URL:https://www.hpsphoto.org/event/august-program-3/
END:VEVENT
BEGIN:VEVENT
DTSTART;TZID=America/Chicago:20260824T183000
DTEND;TZID=America/Chicago:20260824T200000
DTSTAMP:20260423T165908
CREATED:20260226T025020Z
LAST-MODIFIED:20260226T025020Z
UID:20313-1787596200-1787601600@www.hpsphoto.org
SUMMARY:August Competition
DESCRIPTION:
URL:https://www.hpsphoto.org/event/august-competition-3/
END:VEVENT
BEGIN:VEVENT
DTSTART;TZID=America/Chicago:20260914T183000
DTEND;TZID=America/Chicago:20260914T200000
DTSTAMP:20260423T165908
CREATED:20260226T025053Z
LAST-MODIFIED:20260226T025053Z
UID:20315-1789410600-1789416000@www.hpsphoto.org
SUMMARY:September Program
DESCRIPTION:
URL:https://www.hpsphoto.org/event/september-program-3/
END:VEVENT
BEGIN:VEVENT
DTSTART;TZID=America/Chicago:20260928T183000
DTEND;TZID=America/Chicago:20260928T200000
DTSTAMP:20260423T165908
CREATED:20260226T025117Z
LAST-MODIFIED:20260226T025137Z
UID:20317-1790620200-1790625600@www.hpsphoto.org
SUMMARY:September Competition
DESCRIPTION:
URL:https://www.hpsphoto.org/event/september-competition-2/
END:VEVENT
BEGIN:VEVENT
DTSTART;TZID=America/Chicago:20261012T183000
DTEND;TZID=America/Chicago:20261012T200000
DTSTAMP:20260423T165908
CREATED:20260226T025213Z
LAST-MODIFIED:20260226T025213Z
UID:20319-1791829800-1791835200@www.hpsphoto.org
SUMMARY:October Program
DESCRIPTION:
URL:https://www.hpsphoto.org/event/october-program-6/
END:VEVENT
BEGIN:VEVENT
DTSTART;TZID=America/Chicago:20261026T183000
DTEND;TZID=America/Chicago:20261026T200000
DTSTAMP:20260423T165908
CREATED:20260226T025249Z
LAST-MODIFIED:20260226T025249Z
UID:20321-1793039400-1793044800@www.hpsphoto.org
SUMMARY:October Competition
DESCRIPTION:
URL:https://www.hpsphoto.org/event/october-competition-3/
END:VEVENT
BEGIN:VEVENT
DTSTART;TZID=America/Chicago:20261109T183000
DTEND;TZID=America/Chicago:20261109T200000
DTSTAMP:20260423T165908
CREATED:20260226T025326Z
LAST-MODIFIED:20260226T025326Z
UID:20323-1794249000-1794254400@www.hpsphoto.org
SUMMARY:November Program
DESCRIPTION:
URL:https://www.hpsphoto.org/event/november-program-5/
END:VEVENT
BEGIN:VEVENT
DTSTART;TZID=America/Chicago:20261123T183000
DTEND;TZID=America/Chicago:20261123T200000
DTSTAMP:20260423T165908
CREATED:20260226T025400Z
LAST-MODIFIED:20260226T025400Z
UID:20325-1795458600-1795464000@www.hpsphoto.org
SUMMARY:November Competition
DESCRIPTION:
URL:https://www.hpsphoto.org/event/november-competition-4/
END:VEVENT
END:VCALENDAR