BEGIN:VCALENDAR
VERSION:2.0
PRODID:-//Huntsville Photographic Society - ECPv6.15.20//NONSGML v1.0//EN
CALSCALE:GREGORIAN
METHOD:PUBLISH
X-WR-CALNAME:Huntsville Photographic Society
X-ORIGINAL-URL:https://www.hpsphoto.org
X-WR-CALDESC:Events for Huntsville Photographic Society
REFRESH-INTERVAL;VALUE=DURATION:PT1H
X-Robots-Tag:noindex
X-PUBLISHED-TTL:PT1H
BEGIN:VTIMEZONE
TZID:America/Chicago
BEGIN:DAYLIGHT
TZOFFSETFROM:-0600
TZOFFSETTO:-0500
TZNAME:CDT
DTSTART:20190310T080000
END:DAYLIGHT
BEGIN:STANDARD
TZOFFSETFROM:-0500
TZOFFSETTO:-0600
TZNAME:CST
DTSTART:20191103T070000
END:STANDARD
BEGIN:DAYLIGHT
TZOFFSETFROM:-0600
TZOFFSETTO:-0500
TZNAME:CDT
DTSTART:20200308T080000
END:DAYLIGHT
BEGIN:STANDARD
TZOFFSETFROM:-0500
TZOFFSETTO:-0600
TZNAME:CST
DTSTART:20201101T070000
END:STANDARD
BEGIN:DAYLIGHT
TZOFFSETFROM:-0600
TZOFFSETTO:-0500
TZNAME:CDT
DTSTART:20210314T080000
END:DAYLIGHT
BEGIN:STANDARD
TZOFFSETFROM:-0500
TZOFFSETTO:-0600
TZNAME:CST
DTSTART:20211107T070000
END:STANDARD
BEGIN:DAYLIGHT
TZOFFSETFROM:-0600
TZOFFSETTO:-0500
TZNAME:CDT
DTSTART:20220313T080000
END:DAYLIGHT
BEGIN:STANDARD
TZOFFSETFROM:-0500
TZOFFSETTO:-0600
TZNAME:CST
DTSTART:20221106T070000
END:STANDARD
END:VTIMEZONE
BEGIN:VEVENT
DTSTART;TZID=America/Chicago:20210426T190000
DTEND;TZID=America/Chicago:20210426T210000
DTSTAMP:20260424T040305
CREATED:20210323T160611Z
LAST-MODIFIED:20210323T160727Z
UID:11794-1619463600-1619470800@www.hpsphoto.org
SUMMARY:April Competition "Food and Drink"
DESCRIPTION:
URL:https://www.hpsphoto.org/event/april-competition-food-and-drink/
LOCATION:AL
END:VEVENT
BEGIN:VEVENT
DTSTART;TZID=America/Chicago:20210412T190000
DTEND;TZID=America/Chicago:20210412T210000
DTSTAMP:20260424T040305
CREATED:20210323T160508Z
LAST-MODIFIED:20210323T160508Z
UID:11790-1618254000-1618261200@www.hpsphoto.org
SUMMARY:April Program
DESCRIPTION:
URL:https://www.hpsphoto.org/event/april-program/
LOCATION:AL
END:VEVENT
BEGIN:VEVENT
DTSTART;TZID=America/Chicago:20210322T190000
DTEND;TZID=America/Chicago:20210322T210000
DTSTAMP:20260424T040305
CREATED:20210302T154628Z
LAST-MODIFIED:20210302T154628Z
UID:11016-1616439600-1616446800@www.hpsphoto.org
SUMMARY:Competition Night - Open
DESCRIPTION:The topic is “Open”.  Enter your best photos.
URL:https://www.hpsphoto.org/event/competition-night-open-2/
LOCATION:AL
END:VEVENT
BEGIN:VEVENT
DTSTART;TZID=America/Chicago:20210308T190000
DTEND;TZID=America/Chicago:20210308T210000
DTSTAMP:20260424T040305
CREATED:20210302T154400Z
LAST-MODIFIED:20210302T154400Z
UID:11011-1615230000-1615237200@www.hpsphoto.org
SUMMARY:Program Night
DESCRIPTION:Tips on photographing wildlife by Christopher Baker.
URL:https://www.hpsphoto.org/event/program-night-11/
LOCATION:AL
END:VEVENT
BEGIN:VEVENT
DTSTART;TZID=America/Chicago:20210222T190000
DTEND;TZID=America/Chicago:20210222T210000
DTSTAMP:20260424T040305
CREATED:20210126T151858Z
LAST-MODIFIED:20210222T143332Z
UID:10558-1614020400-1614027600@www.hpsphoto.org
SUMMARY:Competition Night - Bridges
DESCRIPTION:
URL:https://www.hpsphoto.org/event/competition-night-bridges/
LOCATION:AL
END:VEVENT
BEGIN:VEVENT
DTSTART;TZID=America/Chicago:20210208T190000
DTEND;TZID=America/Chicago:20210208T210000
DTSTAMP:20260424T040305
CREATED:20201205T160248Z
LAST-MODIFIED:20201205T160248Z
UID:10319-1612810800-1612818000@www.hpsphoto.org
SUMMARY:Program Night
DESCRIPTION:
URL:https://www.hpsphoto.org/event/program-night-10/
LOCATION:AL
END:VEVENT
BEGIN:VEVENT
DTSTART;TZID=America/Chicago:20210125T190000
DTEND;TZID=America/Chicago:20210125T210000
DTSTAMP:20260424T040305
CREATED:20201205T160140Z
LAST-MODIFIED:20201205T160140Z
UID:10317-1611601200-1611608400@www.hpsphoto.org
SUMMARY:Competition Night
DESCRIPTION:
URL:https://www.hpsphoto.org/event/competition-night-4/
LOCATION:AL
END:VEVENT
BEGIN:VEVENT
DTSTART;TZID=America/Chicago:20210118T190000
DTEND;TZID=America/Chicago:20210118T210000
DTSTAMP:20260424T040305
CREATED:20210112T165819Z
LAST-MODIFIED:20210112T165819Z
UID:10452-1610996400-1611003600@www.hpsphoto.org
SUMMARY:April Milani Program
DESCRIPTION:The January program with April Milani has been rescheduled to Monday\, Jan 18 2021. See your email for details on the zoom link.
URL:https://www.hpsphoto.org/event/april-milani-program/
LOCATION:AL
END:VEVENT
BEGIN:VEVENT
DTSTART;TZID=America/Chicago:20210111T190000
DTEND;TZID=America/Chicago:20210111T210000
DTSTAMP:20260424T040305
CREATED:20201205T160051Z
LAST-MODIFIED:20201205T160051Z
UID:10315-1610391600-1610398800@www.hpsphoto.org
SUMMARY:Program Night
DESCRIPTION:
URL:https://www.hpsphoto.org/event/program-night-9/
LOCATION:AL
END:VEVENT
BEGIN:VEVENT
DTSTART;TZID=America/Chicago:20201214T190000
DTEND;TZID=America/Chicago:20201214T210000
DTSTAMP:20260424T040305
CREATED:20201130T013722Z
LAST-MODIFIED:20201130T013722Z
UID:10303-1607972400-1607979600@www.hpsphoto.org
SUMMARY:End of Year Banquet
DESCRIPTION:Our end of the year banquet will be zoomed.  The best of year awards will be presented virtually.  Bring your own food and drink.  No sharing allowed.
URL:https://www.hpsphoto.org/event/end-of-year-banquet/
LOCATION:AL
END:VEVENT
BEGIN:VEVENT
DTSTART;TZID=America/Chicago:20201130T190000
DTEND;TZID=America/Chicago:20201130T210000
DTSTAMP:20260424T040305
CREATED:20201130T013528Z
LAST-MODIFIED:20201130T013544Z
UID:10301-1606762800-1606770000@www.hpsphoto.org
SUMMARY:Open Monday Meeting
DESCRIPTION:Topics to be accnounced.  Contact Charles Gattis if you have something you would like to talk about.
URL:https://www.hpsphoto.org/event/open-monday-meeting/
LOCATION:AL
END:VEVENT
BEGIN:VEVENT
DTSTART;TZID=America/Chicago:20201129T170000
DTEND;TZID=America/Chicago:20201129T170000
DTSTAMP:20260424T040305
CREATED:20200905T003455Z
LAST-MODIFIED:20200905T003530Z
UID:9895-1606669200-1606669200@www.hpsphoto.org
SUMMARY:HMA Exhibit Closes
DESCRIPTION:
URL:https://www.hpsphoto.org/event/hma-exhibit-closes/
LOCATION:AL
END:VEVENT
BEGIN:VEVENT
DTSTART;TZID=America/Chicago:20201123T190000
DTEND;TZID=America/Chicago:20201123T210000
DTSTAMP:20260424T040305
CREATED:20201002T015045Z
LAST-MODIFIED:20201002T015108Z
UID:10056-1606158000-1606165200@www.hpsphoto.org
SUMMARY:November Competition
DESCRIPTION:Geometric Shapes
URL:https://www.hpsphoto.org/event/november-competition/
LOCATION:AL
END:VEVENT
BEGIN:VEVENT
DTSTART;TZID=America/Chicago:20201109T183000
DTEND;TZID=America/Chicago:20201109T210000
DTSTAMP:20260424T040305
CREATED:20201028T011459Z
LAST-MODIFIED:20201028T011527Z
UID:10155-1604946600-1604955600@www.hpsphoto.org
SUMMARY:November Program
DESCRIPTION:Note the start time is 6:30 pm.
URL:https://www.hpsphoto.org/event/november-program-2/
LOCATION:AL
END:VEVENT
BEGIN:VEVENT
DTSTART;TZID=America/Chicago:20201026T190000
DTEND;TZID=America/Chicago:20201026T210000
DTSTAMP:20260424T040305
CREATED:20201001T152927Z
LAST-MODIFIED:20201001T152927Z
UID:10043-1603738800-1603746000@www.hpsphoto.org
SUMMARY:October Competition
DESCRIPTION:The October Competition topic is “Open”.
URL:https://www.hpsphoto.org/event/october-competition/
LOCATION:AL
END:VEVENT
BEGIN:VEVENT
DTSTART;TZID=America/Chicago:20201012T190000
DTEND;TZID=America/Chicago:20201012T210000
DTSTAMP:20260424T040305
CREATED:20201001T152825Z
LAST-MODIFIED:20201001T153836Z
UID:10040-1602529200-1602536400@www.hpsphoto.org
SUMMARY:October Program
DESCRIPTION:Monica Martin will be presenting on lighting techniques for portraits.
URL:https://www.hpsphoto.org/event/october-program/
LOCATION:AL
END:VEVENT
BEGIN:VEVENT
DTSTART;TZID=America/Chicago:20201011T120000
DTEND;TZID=America/Chicago:20201011T170000
DTSTAMP:20260424T040305
CREATED:20200905T003348Z
LAST-MODIFIED:20200905T003413Z
UID:9893-1602417600-1602435600@www.hpsphoto.org
SUMMARY:HMA Exhibit Opens
DESCRIPTION:
URL:https://www.hpsphoto.org/event/hma-exhibit-opens/
LOCATION:AL
END:VEVENT
BEGIN:VEVENT
DTSTART;TZID=America/Chicago:20201003T080000
DTEND;TZID=America/Chicago:20201003T170000
DTSTAMP:20260424T040305
CREATED:20201001T152645Z
LAST-MODIFIED:20201001T152645Z
UID:10038-1601712000-1601744400@www.hpsphoto.org
SUMMARY:Kelby Photo Walk
DESCRIPTION:More information can be found here: https://insider.kelbyone.com/scott-kelbys-2020-worldwide-photo-walk-is-here/ \n 
URL:https://www.hpsphoto.org/event/kelby-photo-walk/
LOCATION:AL
END:VEVENT
BEGIN:VEVENT
DTSTART;TZID=America/Chicago:20200928T190000
DTEND;TZID=America/Chicago:20200928T210000
DTSTAMP:20260424T040305
CREATED:20200905T003048Z
LAST-MODIFIED:20200905T003048Z
UID:9889-1601319600-1601326800@www.hpsphoto.org
SUMMARY:September Competition - Truly Southern
DESCRIPTION:Truly Southern
URL:https://www.hpsphoto.org/event/september-competition-truly-southern/
LOCATION:AL
END:VEVENT
BEGIN:VEVENT
DTSTART;TZID=America/Chicago:20200921T210000
DTEND;TZID=America/Chicago:20200921T210000
DTSTAMP:20260424T040305
CREATED:20200905T003141Z
LAST-MODIFIED:20200905T003141Z
UID:9891-1600722000-1600722000@www.hpsphoto.org
SUMMARY:Digital Uploads Portal Closes
DESCRIPTION:
URL:https://www.hpsphoto.org/event/digital-uploads-portal-closes/
LOCATION:AL
END:VEVENT
BEGIN:VEVENT
DTSTART;TZID=America/Chicago:20200915T080000
DTEND;TZID=America/Chicago:20200915T170000
DTSTAMP:20260424T040305
CREATED:20200905T003610Z
LAST-MODIFIED:20200905T003610Z
UID:9897-1600156800-1600189200@www.hpsphoto.org
SUMMARY:HMA Matted Prints Due
DESCRIPTION:
URL:https://www.hpsphoto.org/event/hma-matted-prints-due/
LOCATION:AL
END:VEVENT
BEGIN:VEVENT
DTSTART;TZID=America/Chicago:20200914T190000
DTEND;TZID=America/Chicago:20200914T210000
DTSTAMP:20260424T040305
CREATED:20200905T002958Z
LAST-MODIFIED:20200905T002958Z
UID:9887-1600110000-1600117200@www.hpsphoto.org
SUMMARY:September Program
DESCRIPTION:Steve Gettle – Landscape and Light
URL:https://www.hpsphoto.org/event/september-program/
LOCATION:AL
END:VEVENT
BEGIN:VEVENT
DTSTART;TZID=America/Chicago:20200824T190000
DTEND;TZID=America/Chicago:20200824T210000
DTSTAMP:20260424T040305
CREATED:20200805T020532Z
LAST-MODIFIED:20200805T020532Z
UID:9601-1598295600-1598302800@www.hpsphoto.org
SUMMARY:August Competition - Portraits of People
DESCRIPTION:
URL:https://www.hpsphoto.org/event/august-competition-portraits-of-people/
LOCATION:AL
END:VEVENT
BEGIN:VEVENT
DTSTART;TZID=America/Chicago:20200817T210000
DTEND;TZID=America/Chicago:20200817T210000
DTSTAMP:20260424T040305
CREATED:20200805T020639Z
LAST-MODIFIED:20200805T020639Z
UID:9603-1597698000-1597698000@www.hpsphoto.org
SUMMARY:Digital Uploads Due
DESCRIPTION:
URL:https://www.hpsphoto.org/event/digital-uploads-due/
LOCATION:AL
END:VEVENT
BEGIN:VEVENT
DTSTART;TZID=America/Chicago:20200810T190000
DTEND;TZID=America/Chicago:20200810T210000
DTSTAMP:20260424T040305
CREATED:20200805T020438Z
LAST-MODIFIED:20200805T020438Z
UID:9599-1597086000-1597093200@www.hpsphoto.org
SUMMARY:August Program - Julian Elliott
DESCRIPTION:
URL:https://www.hpsphoto.org/event/august-program-julian-elliott/
LOCATION:AL
END:VEVENT
BEGIN:VEVENT
DTSTART;TZID=America/Chicago:20200727T233000
DTEND;TZID=America/Chicago:20200727T233000
DTSTAMP:20260424T040305
CREATED:20200627T010957Z
LAST-MODIFIED:20200627T010957Z
UID:9250-1595892600-1595892600@www.hpsphoto.org
SUMMARY:HMA Photos Due
DESCRIPTION:
URL:https://www.hpsphoto.org/event/hma-photos-due/
LOCATION:AL
END:VEVENT
BEGIN:VEVENT
DTSTART;TZID=America/Chicago:20200727T190000
DTEND;TZID=America/Chicago:20200727T210000
DTSTAMP:20260424T040305
CREATED:20200627T010829Z
LAST-MODIFIED:20200627T010829Z
UID:9248-1595876400-1595883600@www.hpsphoto.org
SUMMARY:July Competition - Contrasts
DESCRIPTION:
URL:https://www.hpsphoto.org/event/july-competition-contrasts/
LOCATION:AL
END:VEVENT
BEGIN:VEVENT
DTSTART;TZID=America/Chicago:20200713T190000
DTEND;TZID=America/Chicago:20200713T210000
DTSTAMP:20260424T040305
CREATED:20200627T010731Z
LAST-MODIFIED:20200627T010731Z
UID:9246-1594666800-1594674000@www.hpsphoto.org
SUMMARY:July Program - Advanced Macro
DESCRIPTION:
URL:https://www.hpsphoto.org/event/july-program-advanced-macro/
LOCATION:AL
END:VEVENT
BEGIN:VEVENT
DTSTART;TZID=America/Chicago:20200629T190000
DTEND;TZID=America/Chicago:20200629T210000
DTSTAMP:20260424T040305
CREATED:20200627T145916Z
LAST-MODIFIED:20200627T145916Z
UID:9253-1593457200-1593464400@www.hpsphoto.org
SUMMARY:Open Meeting
DESCRIPTION:Check your email for the wide range of topics to be covered on this fifth Monday.
URL:https://www.hpsphoto.org/event/open-meeting/
LOCATION:AL
END:VEVENT
BEGIN:VEVENT
DTSTART;TZID=America/Chicago:20200622T190000
DTEND;TZID=America/Chicago:20200622T210000
DTSTAMP:20260424T040305
CREATED:20200504T143759Z
LAST-MODIFIED:20200504T143759Z
UID:8978-1592852400-1592859600@www.hpsphoto.org
SUMMARY:June Competition Night
DESCRIPTION:
URL:https://www.hpsphoto.org/event/june-competition-night/
LOCATION:AL
END:VEVENT
END:VCALENDAR