BEGIN:VCALENDAR
VERSION:2.0
PRODID:-//Huntsville Photographic Society - ECPv6.15.20//NONSGML v1.0//EN
CALSCALE:GREGORIAN
METHOD:PUBLISH
X-WR-CALNAME:Huntsville Photographic Society
X-ORIGINAL-URL:https://www.hpsphoto.org
X-WR-CALDESC:Events for Huntsville Photographic Society
REFRESH-INTERVAL;VALUE=DURATION:PT1H
X-Robots-Tag:noindex
X-PUBLISHED-TTL:PT1H
BEGIN:VTIMEZONE
TZID:America/Chicago
BEGIN:DAYLIGHT
TZOFFSETFROM:-0600
TZOFFSETTO:-0500
TZNAME:CDT
DTSTART:20200308T080000
END:DAYLIGHT
BEGIN:STANDARD
TZOFFSETFROM:-0500
TZOFFSETTO:-0600
TZNAME:CST
DTSTART:20201101T070000
END:STANDARD
BEGIN:DAYLIGHT
TZOFFSETFROM:-0600
TZOFFSETTO:-0500
TZNAME:CDT
DTSTART:20210314T080000
END:DAYLIGHT
BEGIN:STANDARD
TZOFFSETFROM:-0500
TZOFFSETTO:-0600
TZNAME:CST
DTSTART:20211107T070000
END:STANDARD
BEGIN:DAYLIGHT
TZOFFSETFROM:-0600
TZOFFSETTO:-0500
TZNAME:CDT
DTSTART:20220313T080000
END:DAYLIGHT
BEGIN:STANDARD
TZOFFSETFROM:-0500
TZOFFSETTO:-0600
TZNAME:CST
DTSTART:20221106T070000
END:STANDARD
BEGIN:DAYLIGHT
TZOFFSETFROM:-0600
TZOFFSETTO:-0500
TZNAME:CDT
DTSTART:20230312T080000
END:DAYLIGHT
BEGIN:STANDARD
TZOFFSETFROM:-0500
TZOFFSETTO:-0600
TZNAME:CST
DTSTART:20231105T070000
END:STANDARD
END:VTIMEZONE
BEGIN:VEVENT
DTSTART;TZID=America/Chicago:20220328T180000
DTEND;TZID=America/Chicago:20220328T200000
DTSTAMP:20260423T170557
CREATED:20220301T194104Z
LAST-MODIFIED:20220301T194104Z
UID:13471-1648490400-1648497600@www.hpsphoto.org
SUMMARY:March Competition - Open
DESCRIPTION:The March Competition topic is “Open”.  Bring your best work.  The meeting will be at Trinity United Methodist Church\, starting at 6:00 pm.
URL:https://www.hpsphoto.org/event/march-competition-open/
LOCATION:AL
END:VEVENT
BEGIN:VEVENT
DTSTART;TZID=America/Chicago:20220314T180000
DTEND;TZID=America/Chicago:20220314T200000
DTSTAMP:20260423T170557
CREATED:20220301T193950Z
LAST-MODIFIED:20220301T193950Z
UID:13467-1647280800-1647288000@www.hpsphoto.org
SUMMARY:March Program - 3D
DESCRIPTION:The March Program will be at the Huntsville Public Library\, starting at 6:00 pm.  Lee Pratt will talk about 3D photography.
URL:https://www.hpsphoto.org/event/march-program-3d/
LOCATION:Huntsville – Madison County Library\, 915 Monroe Street SW\, Huntsville\, Alabama\, 35801\, United States
END:VEVENT
BEGIN:VEVENT
DTSTART;TZID=America/Chicago:20220228T180000
DTEND;TZID=America/Chicago:20220228T200000
DTSTAMP:20260423T170557
CREATED:20220125T015021Z
LAST-MODIFIED:20220208T014019Z
UID:13281-1646071200-1646078400@www.hpsphoto.org
SUMMARY:February Competition - Digital and Prints
DESCRIPTION:Competition topic:  Storefronts.   Meeting time 6:00 pm \nMeeting will be in person and via Zoom.  Photos may be digital or prints.
URL:https://www.hpsphoto.org/event/february-competition/
LOCATION:AL
END:VEVENT
BEGIN:VEVENT
DTSTART;TZID=America/Chicago:20220214T180000
DTEND;TZID=America/Chicago:20220214T200000
DTSTAMP:20260423T170557
CREATED:20220125T015254Z
LAST-MODIFIED:20220131T014703Z
UID:13285-1644861600-1644868800@www.hpsphoto.org
SUMMARY:Program night - Photography in Africa
DESCRIPTION:Alison Mees will talk about her photographic work in Africa.
URL:https://www.hpsphoto.org/event/program-night-15/
LOCATION:AL
END:VEVENT
BEGIN:VEVENT
DTSTART;TZID=America/Chicago:20220124T180000
DTEND;TZID=America/Chicago:20220124T200000
DTSTAMP:20260423T170557
CREATED:20211230T174337Z
LAST-MODIFIED:20220107T182827Z
UID:13142-1643047200-1643054400@www.hpsphoto.org
SUMMARY:Competition Night - Zoom only
DESCRIPTION:Topic:  Time  (No prints)
URL:https://www.hpsphoto.org/event/program-night-12/
LOCATION:AL
END:VEVENT
BEGIN:VEVENT
DTSTART;TZID=America/Chicago:20220124T080000
DTEND;TZID=America/Chicago:20220124T170000
DTSTAMP:20260423T170557
CREATED:20220125T015115Z
LAST-MODIFIED:20220125T015115Z
UID:13283-1643011200-1643043600@www.hpsphoto.org
SUMMARY:Program night
DESCRIPTION:The program is on photography in Africa.
URL:https://www.hpsphoto.org/event/program-night-14/
LOCATION:AL
END:VEVENT
BEGIN:VEVENT
DTSTART;TZID=America/Chicago:20220110T180000
DTEND;TZID=America/Chicago:20220110T200000
DTSTAMP:20260423T170557
CREATED:20211230T174448Z
LAST-MODIFIED:20220107T182716Z
UID:13145-1641837600-1641844800@www.hpsphoto.org
SUMMARY:Program Night - Postponed
DESCRIPTION:Due to the current Covid Omicron surge\, the January program on 3D photography has been postponed to a later date.
URL:https://www.hpsphoto.org/event/program-night-13/
LOCATION:AL
END:VEVENT
BEGIN:VEVENT
DTSTART;TZID=America/Chicago:20211214T180000
DTEND;TZID=America/Chicago:20211214T200000
DTSTAMP:20260423T170557
CREATED:20211106T022134Z
LAST-MODIFIED:20211106T022134Z
UID:12864-1639504800-1639512000@www.hpsphoto.org
SUMMARY:HPS End of Year Banquet
DESCRIPTION:Dinner starts at 6:00 pm at Trinity United Presbyterian Church.  The program begins at 7:00 pm.
URL:https://www.hpsphoto.org/event/hps-end-of-year-banquet/
LOCATION:AL
END:VEVENT
BEGIN:VEVENT
DTSTART;TZID=America/Chicago:20211129T180000
DTEND;TZID=America/Chicago:20211129T190000
DTSTAMP:20260423T170557
CREATED:20211105T004658Z
LAST-MODIFIED:20211105T004658Z
UID:12861-1638208800-1638212400@www.hpsphoto.org
SUMMARY:Annual Meeting
DESCRIPTION:The annual meeting to vote for officers and annual budget will be at 6:00 pm via zoom.
URL:https://www.hpsphoto.org/event/annual-meeting/
LOCATION:AL
END:VEVENT
BEGIN:VEVENT
DTSTART;TZID=America/Chicago:20211122T180000
DTEND;TZID=America/Chicago:20211122T200000
DTSTAMP:20260423T170557
CREATED:20211103T032037Z
LAST-MODIFIED:20211103T032037Z
UID:12852-1637604000-1637611200@www.hpsphoto.org
SUMMARY:November Competition - Still Life
DESCRIPTION:
URL:https://www.hpsphoto.org/event/november-competition-still-life/
LOCATION:AL
END:VEVENT
BEGIN:VEVENT
DTSTART;TZID=America/Chicago:20211108T180000
DTEND;TZID=America/Chicago:20211108T200000
DTSTAMP:20260423T170557
CREATED:20211103T031939Z
LAST-MODIFIED:20211103T031950Z
UID:12850-1636394400-1636401600@www.hpsphoto.org
SUMMARY:November Program - Infrared Photography by Chris Baker
DESCRIPTION:
URL:https://www.hpsphoto.org/event/november-program-infrared-photography-by-chris-baker/
LOCATION:AL
END:VEVENT
BEGIN:VEVENT
DTSTART;TZID=America/Chicago:20211025T180000
DTEND;TZID=America/Chicago:20211025T200000
DTSTAMP:20260423T170557
CREATED:20210928T012904Z
LAST-MODIFIED:20210928T012904Z
UID:12550-1635184800-1635192000@www.hpsphoto.org
SUMMARY:Oct Competition Night
DESCRIPTION:
URL:https://www.hpsphoto.org/event/oct-competition-night/
LOCATION:AL
END:VEVENT
BEGIN:VEVENT
DTSTART;TZID=America/Chicago:20211011T180000
DTEND;TZID=America/Chicago:20211011T200000
DTSTAMP:20260423T170557
CREATED:20210928T012825Z
LAST-MODIFIED:20210928T012825Z
UID:12548-1633975200-1633982400@www.hpsphoto.org
SUMMARY:Oct Program Night
DESCRIPTION:
URL:https://www.hpsphoto.org/event/oct-program-night/
LOCATION:AL
END:VEVENT
BEGIN:VEVENT
DTSTART;TZID=America/Chicago:20210927T180000
DTEND;TZID=America/Chicago:20210927T210000
DTSTAMP:20260423T170557
CREATED:20210828T014511Z
LAST-MODIFIED:20210828T014511Z
UID:12495-1632765600-1632776400@www.hpsphoto.org
SUMMARY:September Competition - Barns
DESCRIPTION:
URL:https://www.hpsphoto.org/event/september-competition-barns/
LOCATION:AL
END:VEVENT
BEGIN:VEVENT
DTSTART;TZID=America/Chicago:20210913T180000
DTEND;TZID=America/Chicago:20210913T210000
DTSTAMP:20260423T170557
CREATED:20210828T014424Z
LAST-MODIFIED:20210828T014424Z
UID:12493-1631556000-1631566800@www.hpsphoto.org
SUMMARY:September Program - Ken Boyd
DESCRIPTION:Waterwheels
URL:https://www.hpsphoto.org/event/september-program-ken-boyd/
LOCATION:AL
END:VEVENT
BEGIN:VEVENT
DTSTART;TZID=America/Chicago:20210823T180000
DTEND;TZID=America/Chicago:20210823T200000
DTSTAMP:20260423T170557
CREATED:20210629T014048Z
LAST-MODIFIED:20210629T014048Z
UID:12259-1629741600-1629748800@www.hpsphoto.org
SUMMARY:August Competition - Modes of Transportation
DESCRIPTION:
URL:https://www.hpsphoto.org/event/august-competition-modes-of-transportation/
LOCATION:AL
END:VEVENT
BEGIN:VEVENT
DTSTART;TZID=America/Chicago:20210809T180000
DTEND;TZID=America/Chicago:20210809T200000
DTSTAMP:20260423T170557
CREATED:20210629T013945Z
LAST-MODIFIED:20210729T014619Z
UID:12257-1628532000-1628539200@www.hpsphoto.org
SUMMARY:August Program - Photographing Birds
DESCRIPTION:
URL:https://www.hpsphoto.org/event/august-program/
LOCATION:AL
END:VEVENT
BEGIN:VEVENT
DTSTART;TZID=America/Chicago:20210726T180000
DTEND;TZID=America/Chicago:20210726T200000
DTSTAMP:20260423T170557
CREATED:20210629T013127Z
LAST-MODIFIED:20210629T013206Z
UID:12251-1627322400-1627329600@www.hpsphoto.org
SUMMARY:July Competition - Scenic North AL / South TN
DESCRIPTION:
URL:https://www.hpsphoto.org/event/july-competition/
LOCATION:AL
END:VEVENT
BEGIN:VEVENT
DTSTART;TZID=America/Chicago:20210712T180000
DTEND;TZID=America/Chicago:20210712T200000
DTSTAMP:20260423T170557
CREATED:20210629T013041Z
LAST-MODIFIED:20210629T013041Z
UID:12249-1626112800-1626120000@www.hpsphoto.org
SUMMARY:July Program
DESCRIPTION:
URL:https://www.hpsphoto.org/event/july-program/
LOCATION:AL
END:VEVENT
BEGIN:VEVENT
DTSTART;TZID=America/Chicago:20210628T190000
DTEND;TZID=America/Chicago:20210628T210000
DTSTAMP:20260423T170557
CREATED:20210526T222641Z
LAST-MODIFIED:20210526T222914Z
UID:12070-1624906800-1624914000@www.hpsphoto.org
SUMMARY:June Competition - "Empty"
DESCRIPTION:June
URL:https://www.hpsphoto.org/event/june-competition-empty/
LOCATION:Huntsville – Madison County Library\, 915 Monroe Street SW\, Huntsville\, Alabama\, 35801\, United States
END:VEVENT
BEGIN:VEVENT
DTSTART;TZID=America/Chicago:20210614T190000
DTEND;TZID=America/Chicago:20210614T210000
DTSTAMP:20260423T170557
CREATED:20210526T222503Z
LAST-MODIFIED:20210526T222815Z
UID:12068-1623697200-1623704400@www.hpsphoto.org
SUMMARY:June Program - In the Library
DESCRIPTION:John Dersham – Changing Moods – 7:00 pm – at the Huntsville Library
URL:https://www.hpsphoto.org/event/june-program-in-the-library/
LOCATION:Huntsville – Madison County Library\, 915 Monroe Street SW\, Huntsville\, Alabama\, 35801\, United States
END:VEVENT
BEGIN:VEVENT
DTSTART;TZID=America/Chicago:20210604T210000
DTEND;TZID=America/Chicago:20210604T210000
DTSTAMP:20260423T170557
CREATED:20210421T214125Z
LAST-MODIFIED:20210421T214125Z
UID:11906-1622840400-1622840400@www.hpsphoto.org
SUMMARY:Carnegie Visual Arts Center Submissions Due
DESCRIPTION:
URL:https://www.hpsphoto.org/event/carnegie-visual-arts-center-submissions-due/
LOCATION:AL
END:VEVENT
BEGIN:VEVENT
DTSTART;TZID=America/Chicago:20210524T190000
DTEND;TZID=America/Chicago:20210524T210000
DTSTAMP:20260423T170557
CREATED:20210420T223733Z
LAST-MODIFIED:20210420T223733Z
UID:11885-1621882800-1621890000@www.hpsphoto.org
SUMMARY:May Competition
DESCRIPTION:
URL:https://www.hpsphoto.org/event/may-competition/
LOCATION:AL
END:VEVENT
BEGIN:VEVENT
DTSTART;TZID=America/Chicago:20210504T190000
DTEND;TZID=America/Chicago:20210504T203000
DTSTAMP:20260423T170557
CREATED:20210420T223612Z
LAST-MODIFIED:20210420T223612Z
UID:11883-1620154800-1620160200@www.hpsphoto.org
SUMMARY:May Program - Matt Kloskowski
DESCRIPTION:Note day change.  Tuesday May 4 at 7:00 pm  You must pre-register
URL:https://www.hpsphoto.org/event/may-program-matt-kloskowski/
LOCATION:AL
END:VEVENT
BEGIN:VEVENT
DTSTART;TZID=America/Chicago:20210426T190000
DTEND;TZID=America/Chicago:20210426T210000
DTSTAMP:20260423T170557
CREATED:20210323T160611Z
LAST-MODIFIED:20210323T160727Z
UID:11794-1619463600-1619470800@www.hpsphoto.org
SUMMARY:April Competition "Food and Drink"
DESCRIPTION:
URL:https://www.hpsphoto.org/event/april-competition-food-and-drink/
LOCATION:AL
END:VEVENT
BEGIN:VEVENT
DTSTART;TZID=America/Chicago:20210412T190000
DTEND;TZID=America/Chicago:20210412T210000
DTSTAMP:20260423T170557
CREATED:20210323T160508Z
LAST-MODIFIED:20210323T160508Z
UID:11790-1618254000-1618261200@www.hpsphoto.org
SUMMARY:April Program
DESCRIPTION:
URL:https://www.hpsphoto.org/event/april-program/
LOCATION:AL
END:VEVENT
BEGIN:VEVENT
DTSTART;TZID=America/Chicago:20210322T190000
DTEND;TZID=America/Chicago:20210322T210000
DTSTAMP:20260423T170557
CREATED:20210302T154628Z
LAST-MODIFIED:20210302T154628Z
UID:11016-1616439600-1616446800@www.hpsphoto.org
SUMMARY:Competition Night - Open
DESCRIPTION:The topic is “Open”.  Enter your best photos.
URL:https://www.hpsphoto.org/event/competition-night-open-2/
LOCATION:AL
END:VEVENT
BEGIN:VEVENT
DTSTART;TZID=America/Chicago:20210308T190000
DTEND;TZID=America/Chicago:20210308T210000
DTSTAMP:20260423T170557
CREATED:20210302T154400Z
LAST-MODIFIED:20210302T154400Z
UID:11011-1615230000-1615237200@www.hpsphoto.org
SUMMARY:Program Night
DESCRIPTION:Tips on photographing wildlife by Christopher Baker.
URL:https://www.hpsphoto.org/event/program-night-11/
LOCATION:AL
END:VEVENT
BEGIN:VEVENT
DTSTART;TZID=America/Chicago:20210222T190000
DTEND;TZID=America/Chicago:20210222T210000
DTSTAMP:20260423T170557
CREATED:20210126T151858Z
LAST-MODIFIED:20210222T143332Z
UID:10558-1614020400-1614027600@www.hpsphoto.org
SUMMARY:Competition Night - Bridges
DESCRIPTION:
URL:https://www.hpsphoto.org/event/competition-night-bridges/
LOCATION:AL
END:VEVENT
BEGIN:VEVENT
DTSTART;TZID=America/Chicago:20210208T190000
DTEND;TZID=America/Chicago:20210208T210000
DTSTAMP:20260423T170557
CREATED:20201205T160248Z
LAST-MODIFIED:20201205T160248Z
UID:10319-1612810800-1612818000@www.hpsphoto.org
SUMMARY:Program Night
DESCRIPTION:
URL:https://www.hpsphoto.org/event/program-night-10/
LOCATION:AL
END:VEVENT
END:VCALENDAR