BEGIN:VCALENDAR
VERSION:2.0
PRODID:-//Huntsville Photographic Society - ECPv6.15.20//NONSGML v1.0//EN
CALSCALE:GREGORIAN
METHOD:PUBLISH
X-WR-CALNAME:Huntsville Photographic Society
X-ORIGINAL-URL:https://www.hpsphoto.org
X-WR-CALDESC:Events for Huntsville Photographic Society
REFRESH-INTERVAL;VALUE=DURATION:PT1H
X-Robots-Tag:noindex
X-PUBLISHED-TTL:PT1H
BEGIN:VTIMEZONE
TZID:America/Chicago
BEGIN:DAYLIGHT
TZOFFSETFROM:-0600
TZOFFSETTO:-0500
TZNAME:CDT
DTSTART:20180311T080000
END:DAYLIGHT
BEGIN:STANDARD
TZOFFSETFROM:-0500
TZOFFSETTO:-0600
TZNAME:CST
DTSTART:20181104T070000
END:STANDARD
BEGIN:DAYLIGHT
TZOFFSETFROM:-0600
TZOFFSETTO:-0500
TZNAME:CDT
DTSTART:20190310T080000
END:DAYLIGHT
BEGIN:STANDARD
TZOFFSETFROM:-0500
TZOFFSETTO:-0600
TZNAME:CST
DTSTART:20191103T070000
END:STANDARD
BEGIN:DAYLIGHT
TZOFFSETFROM:-0600
TZOFFSETTO:-0500
TZNAME:CDT
DTSTART:20200308T080000
END:DAYLIGHT
BEGIN:STANDARD
TZOFFSETFROM:-0500
TZOFFSETTO:-0600
TZNAME:CST
DTSTART:20201101T070000
END:STANDARD
END:VTIMEZONE
BEGIN:VEVENT
DTSTART;TZID=America/Chicago:20190128T190000
DTEND;TZID=America/Chicago:20190128T210000
DTSTAMP:20260423T172706
CREATED:20190121T223110Z
LAST-MODIFIED:20190218T200802Z
UID:1328-1548702000-1548709200@www.hpsphoto.org
SUMMARY:January Competition Night
DESCRIPTION:January completion night.  The theme is Graffiti!  Should be interesting.
URL:https://www.hpsphoto.org/event/competition-night/
END:VEVENT
BEGIN:VEVENT
DTSTART;TZID=America/Chicago:20190121T230000
DTEND;TZID=America/Chicago:20190121T233000
DTSTAMP:20260423T172706
CREATED:20190121T202105Z
LAST-MODIFIED:20190121T230155Z
UID:1316-1548111600-1548113400@www.hpsphoto.org
SUMMARY:Digital submissions due
DESCRIPTION:The digital images for the January competition (Graffiti) are due by midnight tonight.  Don’t wait until the last minute.  
URL:https://www.hpsphoto.org/event/test-event/
LOCATION:GigaParts\, 6123 University Dr\, Huntsville\, AL
END:VEVENT
BEGIN:VEVENT
DTSTART;TZID=America/Chicago:20190114T163000
DTEND;TZID=America/Chicago:20190114T210000
DTSTAMP:20260423T172706
CREATED:20190122T040708Z
LAST-MODIFIED:20190122T040713Z
UID:1447-1547483400-1547499600@www.hpsphoto.org
SUMMARY:January Program Night
DESCRIPTION:3D Photography
URL:https://www.hpsphoto.org/event/january-program-night/
END:VEVENT
BEGIN:VEVENT
DTSTART;TZID=America/Chicago:20190105T090000
DTEND;TZID=America/Chicago:20190105T120000
DTSTAMP:20260423T172706
CREATED:20190122T040137Z
LAST-MODIFIED:20190122T040146Z
UID:1440-1546678800-1546689600@www.hpsphoto.org
SUMMARY:Board Retreat
DESCRIPTION:
URL:https://www.hpsphoto.org/event/board-retreat/
END:VEVENT
END:VCALENDAR