BEGIN:VCALENDAR
VERSION:2.0
PRODID:-//Huntsville Photographic Society - ECPv6.15.20//NONSGML v1.0//EN
CALSCALE:GREGORIAN
METHOD:PUBLISH
X-ORIGINAL-URL:https://www.hpsphoto.org
X-WR-CALDESC:Events for Huntsville Photographic Society
REFRESH-INTERVAL;VALUE=DURATION:PT1H
X-Robots-Tag:noindex
X-PUBLISHED-TTL:PT1H
BEGIN:VTIMEZONE
TZID:America/Chicago
BEGIN:DAYLIGHT
TZOFFSETFROM:-0600
TZOFFSETTO:-0500
TZNAME:CDT
DTSTART:20240310T080000
END:DAYLIGHT
BEGIN:STANDARD
TZOFFSETFROM:-0500
TZOFFSETTO:-0600
TZNAME:CST
DTSTART:20241103T070000
END:STANDARD
BEGIN:DAYLIGHT
TZOFFSETFROM:-0600
TZOFFSETTO:-0500
TZNAME:CDT
DTSTART:20250309T080000
END:DAYLIGHT
BEGIN:STANDARD
TZOFFSETFROM:-0500
TZOFFSETTO:-0600
TZNAME:CST
DTSTART:20251102T070000
END:STANDARD
BEGIN:DAYLIGHT
TZOFFSETFROM:-0600
TZOFFSETTO:-0500
TZNAME:CDT
DTSTART:20260308T080000
END:DAYLIGHT
BEGIN:STANDARD
TZOFFSETFROM:-0500
TZOFFSETTO:-0600
TZNAME:CST
DTSTART:20261101T070000
END:STANDARD
END:VTIMEZONE
BEGIN:VEVENT
DTSTART;VALUE=DATE:20251004
DTEND;VALUE=DATE:20251005
DTSTAMP:20260423T144254
CREATED:20250918T184211Z
LAST-MODIFIED:20250918T184211Z
UID:19525-1759536000-1759622399@www.hpsphoto.org
SUMMARY:Scott Kelby Worldwide Photo Walk
DESCRIPTION:HPS Sponsored Activity.  It will be in Downtown Huntsville\, more details to come.
URL:https://www.hpsphoto.org/event/scott-kelby-worldwide-photo-walk/
LOCATION:Downtown Huntsville\, 268-296 West Side Square\, Huntsville\, AL\, 35801\, United States
END:VEVENT
BEGIN:VEVENT
DTSTART;TZID=America/Chicago:20251013T183000
DTEND;TZID=America/Chicago:20251013T200000
DTSTAMP:20260423T144254
CREATED:20250805T182221Z
LAST-MODIFIED:20250805T212443Z
UID:19374-1760380200-1760385600@www.hpsphoto.org
SUMMARY:October Program\, Interactive portraits and still life.
DESCRIPTION:This month we will have an interactive experience covering portraits and still life for all members.
URL:https://www.hpsphoto.org/event/october-program-5/
LOCATION:GigaParts\, 6123 University Dr\, Huntsville\, AL
END:VEVENT
BEGIN:VEVENT
DTSTART;TZID=America/Chicago:20251020T210000
DTEND;TZID=America/Chicago:20251020T213000
DTSTAMP:20260423T144254
CREATED:20250805T182905Z
LAST-MODIFIED:20250805T211932Z
UID:19378-1760994000-1760995800@www.hpsphoto.org
SUMMARY:October Competition Entries Due\, Topic is "Open".
DESCRIPTION:Topic is “Open”
URL:https://www.hpsphoto.org/event/october-competition-entries-due/
END:VEVENT
BEGIN:VEVENT
DTSTART;TZID=America/Chicago:20251027T183000
DTEND;TZID=America/Chicago:20251027T200000
DTSTAMP:20260423T144254
CREATED:20250805T205835Z
LAST-MODIFIED:20250805T212052Z
UID:19390-1761589800-1761595200@www.hpsphoto.org
SUMMARY:October Competition Judging\, Topic is "Open".
DESCRIPTION:The subject this month is “Open”.
URL:https://www.hpsphoto.org/event/october-competition-judging/
LOCATION:GigaParts\, 6123 University Dr\, Huntsville\, AL
END:VEVENT
END:VCALENDAR